BEGIN:VCALENDAR
VERSION:2.0
PRODID:-//AltSOU - ECPv6.3.7//NONSGML v1.0//EN
CALSCALE:GREGORIAN
METHOD:PUBLISH
X-WR-CALNAME:AltSOU
X-ORIGINAL-URL:https://altsou.com
X-WR-CALDESC:Events for AltSOU
REFRESH-INTERVAL;VALUE=DURATION:PT1H
X-Robots-Tag:noindex
X-PUBLISHED-TTL:PT1H
BEGIN:VTIMEZONE
TZID:Europe/Rome
BEGIN:DAYLIGHT
TZOFFSETFROM:+0100
TZOFFSETTO:+0200
TZNAME:CEST
DTSTART:20240331T010000
END:DAYLIGHT
BEGIN:STANDARD
TZOFFSETFROM:+0200
TZOFFSETTO:+0100
TZNAME:CET
DTSTART:20241027T010000
END:STANDARD
END:VTIMEZONE
BEGIN:VEVENT
DTSTART;TZID=Europe/Rome:20240521T124500
DTEND;TZID=Europe/Rome:20240521T140000
DTSTAMP:20260420T091719
CREATED:20240418T165814Z
LAST-MODIFIED:20240512T133813Z
UID:569-1716295500-1716300000@altsou.com
SUMMARY:We are not on the same boat: Power walk and reflexive lunch
DESCRIPTION:WHO?\nCarla Vitantonio \nWHAT?\nThis simple and participatory exercise allows a physical and direct experience of power differences in a group. The setting of reference will be that of migration. Every participant will be given a role and it’s important that everyone seriously tries to embody the character they are assigned. The facilitator will then give instructions\, and everyone will act according to their character.Spatial movement will show differences between people. At the end of the exercise\, we will do a moment of defusing\, debriefing\, collective reflection. \nThe maximum number of participants is 25. \nIt does not require special abilities\, but it does require the possibility to move in the space from a line. \nABOUT THE SPEAKER\nIndependent researcher\, humanitarian and development professional\, performer: Carla Vitantonio focuses\, throughout her work\, on coloniality and on its impact on communities\, practices and knowledges. She lived and worked in North Korea\, Myanmar\, and Cuba\, engaging in community disaster preparedness\, social justice\, and crisis management.In 2022 she started “Living decoloniality”\, a toolkit that collects decolonial practices through the aid sector\, which became a podcast\, and is produced by the Centre for Humanitarian Leadership. She is a member of the board of the International Humanitarian Studies Association. In 2022 she was awarded the honor of Cavaliere all’Ordine della Stella d’Italia for her action in the humanitarian sector.Her current research looks at coloniality and subalternity in Italy. \n\n\n\n\n\n\nREGISTER HERE\n\n\n\n\n\n\n\n\n\n\n\n\n\nVenue
URL:https://altsou.com/event/power-walk-and-reflexive-lunch/
LOCATION:Villa Schifanoia’s Gardens\, European University Insitute\, Florence\, Italy
CATEGORIES:altSOU'24,In-person event,Participatory event
END:VEVENT
BEGIN:VEVENT
DTSTART;TZID=Europe/Rome:20240521T140000
DTEND;TZID=Europe/Rome:20240521T153000
DTSTAMP:20260420T091719
CREATED:20240418T170255Z
LAST-MODIFIED:20240513T102911Z
UID:576-1716300000-1716305400@altsou.com
SUMMARY:Teach-in on de/coloniality and our place in Europe
DESCRIPTION:Who?\nCarla Vitantonio \nWhat?\nIn this teach-in session\, I would like to invite participants to build together a reflection on coloniality in our own system and culture. I am assuming that most of us come from different places\, located at variable distance from the mainstream European culture (system\, society\, model\, whatever)\, and from this unique perspective each one will contribute to the session\, following Haraway’s inspiration (1988\, 2016) and creating a temporary web of kin.For this purpose\, I will give a short theoretical introduction based on the colonial matrix of power (Quijano 2000\, 2007)\, and embodied by my own experience of queer\, stigmatized woman\, migrant and daughter of migrants.If you are inspired\, before joining the session you can listen to my podcast “Living decoloniality”. \n \nABOUT THE SPEAKER\nIndependent researcher\, humanitarian and development professional\, performer: Carla Vitantonio focuses\, throughout her work\, on coloniality and on its impact on communities\, practices and knowledges. She lived and worked in North Korea\, Myanmar\, and Cuba\, engaging in community disaster preparedness\, social justice\, and crisis management. In 2022 she started “Living decoloniality”\, a toolkit that collects decolonial practices through the aid sector\, which became a podcast\, and is produced by the Centre for Humanitarian Leadership. She is a member of the board of the International Humanitarian Studies Association. In 2022 she was awarded the honor of Cavaliere all’Ordine della Stella d’Italia for her action in the humanitarian sector.Her current research looks at coloniality and subalternity in Italy. \n\n\n\n\n\n\nREGISTER HERE\n\n\n\n\n\n\n\n\n\n\n\n\n\nVenue
URL:https://altsou.com/event/teach-in-on-de-coloniality/
LOCATION:Villa Schifanoia’s Gardens\, European University Insitute\, Florence\, Italy
CATEGORIES:altSOU'24,In-person event,Participatory discussion,Participatory event
END:VEVENT
BEGIN:VEVENT
DTSTART;TZID=Europe/Rome:20240522T140000
DTEND;TZID=Europe/Rome:20240522T160000
DTSTAMP:20260420T091720
CREATED:20240418T171918Z
LAST-MODIFIED:20240513T104532Z
UID:587-1716386400-1716393600@altsou.com
SUMMARY:Collective Brainstorming and Concluding Event
DESCRIPTION:Participatory assembly on concluding Alt-SoU’24 & co-designing potential output \nOpen to all critical minds interested in building radical futures! \nMore info soon! \n\n\n\n\n\n\nREGISTER HERE\n\n\n\n\n\n\n\n\n\n\n\n\n\nVenue
URL:https://altsou.com/event/collective-brainstorming-and-concluding-event/
LOCATION:Badia’s gardens\, European University Institute\, Florence\, Italy
CATEGORIES:altSOU'24,Assembly,Participatory discussion,Participatory event
END:VEVENT
END:VCALENDAR