BEGIN:VCALENDAR
VERSION:2.0
PRODID:-//AltSOU - ECPv6.3.7//NONSGML v1.0//EN
CALSCALE:GREGORIAN
METHOD:PUBLISH
X-WR-CALNAME:AltSOU
X-ORIGINAL-URL:https://altsou.com
X-WR-CALDESC:Events for AltSOU
REFRESH-INTERVAL;VALUE=DURATION:PT1H
X-Robots-Tag:noindex
X-PUBLISHED-TTL:PT1H
BEGIN:VTIMEZONE
TZID:Europe/Rome
BEGIN:DAYLIGHT
TZOFFSETFROM:+0100
TZOFFSETTO:+0200
TZNAME:CEST
DTSTART:20240331T010000
END:DAYLIGHT
BEGIN:STANDARD
TZOFFSETFROM:+0200
TZOFFSETTO:+0100
TZNAME:CET
DTSTART:20241027T010000
END:STANDARD
END:VTIMEZONE
BEGIN:VEVENT
DTSTART;TZID=Europe/Rome:20240419T190000
DTEND;TZID=Europe/Rome:20240419T235900
DTSTAMP:20260424T090747
CREATED:20240418T234441Z
LAST-MODIFIED:20240424T063145Z
UID:664-1713553200-1713571140@altsou.com
SUMMARY:Programme Launch and Fiasco Fundraising Party with Karaoke!
DESCRIPTION:Join us for our fundraising party as we launch the programme of the AltSOU unconference 2024 (29 April\, 20-22\nMay).\n\nThere will be karaoke! So come together\, sing your heart out\, raise a glass and embrace the joy of collective action!\n\nNote: +1€ on all drinks to go towards AltSOU costs.\n\nFiasco opens: 19:00\nProgramme launch: 19:30\nKaraoke: eight ’till late!
URL:https://altsou.com/event/programme-launch-and-fiasco-fundraising-party-with-karaoke/
LOCATION:Fiasco Social Club\, Badia Fiesolana\, EUI\, Florence\, Italy
CATEGORIES:altSOU'24
END:VEVENT
END:VCALENDAR