BEGIN:VCALENDAR
VERSION:2.0
PRODID:-//AltSOU - ECPv6.3.7//NONSGML v1.0//EN
CALSCALE:GREGORIAN
METHOD:PUBLISH
X-WR-CALNAME:AltSOU
X-ORIGINAL-URL:https://altsou.com
X-WR-CALDESC:Events for AltSOU
REFRESH-INTERVAL;VALUE=DURATION:PT1H
X-Robots-Tag:noindex
X-PUBLISHED-TTL:PT1H
BEGIN:VTIMEZONE
TZID:Europe/Rome
BEGIN:DAYLIGHT
TZOFFSETFROM:+0100
TZOFFSETTO:+0200
TZNAME:CEST
DTSTART:20240331T010000
END:DAYLIGHT
BEGIN:STANDARD
TZOFFSETFROM:+0200
TZOFFSETTO:+0100
TZNAME:CET
DTSTART:20241027T010000
END:STANDARD
END:VTIMEZONE
BEGIN:VEVENT
DTSTART;TZID=Europe/Rome:20240520T180000
DTEND;TZID=Europe/Rome:20240520T200000
DTSTAMP:20260423T223404
CREATED:20240418T075149Z
LAST-MODIFIED:20240519T070802Z
UID:414-1716228000-1716235200@altsou.com
SUMMARY:Antifascismo in Italia - A talk with local activists
DESCRIPTION:Who?\nMarco Filippini (Love My Way)\, Daria Campriani (Intersexioni)\, Non una di meno Firenze\, Julia Kaiser (University of Leipzig)\, Collettivo di Fabbrica \nWhat?\n(English below) \nL’estrema destra avanza in Europa. Stiamo assistendo al ritorno della politica autoritaria e alla repressione strisciante dei movimenti sociali e dei dissidenti politici. Negli ultimi mesi\, il dibattito italiano ha ruotato attorno al fascismo e all’antifascismo\, dato che l’Italia ha il suo primo governo di estrema destra dal 1945. Poiché le pratiche fasciste non vengono mai presentate completamente come tali\, abbiamo invitato gruppi di attivisti fiorentini che possano raccontare alla comunità dell’IUE la loro esperienza come oggetto di queste politiche repressive. L’obiettivo dell’evento è quello di parlare di ciò che sta accadendo in Italia con l’estrema destra al potere (nella politica e nel discorso politico\, nei media e anche nelle strade) e di come resistere. L’evento è completamente bilingue (italiano e inglese)\, con interpretazione dal vivo. \n\nThe far right is on the rise in Europe. We are witnessing the return of authoritian politics and slithering repression of social movements and political dissidents. In recent months\, the Italian debate has revolved around fascism and antifascism\, even more so since Italy had its first extreme-right government since 1945. As fascist practices are never fully presented as such\, we invited Florentine activist groups who can tell the EUI community about their experience as object of these repressive policies. The aim of the event is to talk about what is happening in Italy with the extreme right in power (in politics and political discourse\, in the media\, and also in the streets) and how to resist. The event is fully bilingual (Italian and English)\, with live interpretation. \nThe event is fully bilingual (Italian and English)\, with live interpretation. \n\n\n\n\n\n\nREGISTER HERE\n\n\n\n\n\n\n\n\n\n\n\n\n\nVenue
URL:https://altsou.com/event/antifascismo-in-italia-a-talk-with-local-activists/
LOCATION:Fiasco Social Club\, Badia Fiesolana\, EUI\, Florence\, Italy
CATEGORIES:altSOU'24,Assembly,In-person event,Participatory discussion
END:VEVENT
END:VCALENDAR